BEGIN:VCALENDAR
VERSION:2.0
PRODID:-//Vélo-Club Payerne - ECPv6.10.1.1//NONSGML v1.0//EN
CALSCALE:GREGORIAN
METHOD:PUBLISH
X-WR-CALNAME:Vélo-Club Payerne
X-ORIGINAL-URL:https://vcpayerne.ch
X-WR-CALDESC:Évènements pour Vélo-Club Payerne
REFRESH-INTERVAL;VALUE=DURATION:PT1H
X-Robots-Tag:noindex
X-PUBLISHED-TTL:PT1H
BEGIN:VTIMEZONE
TZID:Europe/Zurich
BEGIN:DAYLIGHT
TZOFFSETFROM:+0100
TZOFFSETTO:+0200
TZNAME:CEST
DTSTART:20240331T010000
END:DAYLIGHT
BEGIN:STANDARD
TZOFFSETFROM:+0200
TZOFFSETTO:+0100
TZNAME:CET
DTSTART:20241027T010000
END:STANDARD
END:VTIMEZONE
BEGIN:VEVENT
DTSTART;VALUE=DATE:20240629
DTEND;VALUE=DATE:20240630
DTSTAMP:20260421T092515
CREATED:20240122T130021Z
LAST-MODIFIED:20240122T130021Z
UID:10000477-1719619200-1719705599@vcpayerne.ch
SUMMARY:West Bike Cup + Coupe Fribourgeoise - Elitec Bike Broye
DESCRIPTION:
URL:https://vcpayerne.ch/event/west-bike-cup-coupe-fribourgeoise-elitec-bike-broye-3/
LOCATION:Payerne (VD)\, Payerne\, Suisse
CATEGORIES:Course: VTT,Cyclosportifs
END:VEVENT
END:VCALENDAR