BEGIN:VCALENDAR
VERSION:2.0
PRODID:-//Vélo-Club Payerne - ECPv6.10.1.1//NONSGML v1.0//EN
CALSCALE:GREGORIAN
METHOD:PUBLISH
X-WR-CALNAME:Vélo-Club Payerne
X-ORIGINAL-URL:https://vcpayerne.ch
X-WR-CALDESC:Évènements pour Vélo-Club Payerne
REFRESH-INTERVAL;VALUE=DURATION:PT1H
X-Robots-Tag:noindex
X-PUBLISHED-TTL:PT1H
BEGIN:VTIMEZONE
TZID:Europe/Zurich
BEGIN:DAYLIGHT
TZOFFSETFROM:+0100
TZOFFSETTO:+0200
TZNAME:CEST
DTSTART:20230326T010000
END:DAYLIGHT
BEGIN:STANDARD
TZOFFSETFROM:+0200
TZOFFSETTO:+0100
TZNAME:CET
DTSTART:20231029T010000
END:STANDARD
END:VTIMEZONE
BEGIN:VEVENT
DTSTART;TZID=Europe/Zurich:20230413T181500
DTEND;TZID=Europe/Zurich:20230413T200000
DTSTAMP:20260421T055240
CREATED:20230203T175940Z
LAST-MODIFIED:20230907T145935Z
UID:10000025-1681409700-1681416000@vcpayerne.ch
SUMMARY:Sortie du Jeudi
DESCRIPTION:RENDEZ-VOUS 18h15 AU MAGASIN ! Attention ces sorties peuvent parfois être délocalisées. \n \nPhotos \n\n\n\n	 \n	\n		Failed to get data. Error:\nQuota exceeded for quota metric 'All requests' and limit 'All requests per day' of service 'photoslibrary.googleapis.com' for consumer 'project_number:261560699688'.
URL:https://vcpayerne.ch/event/sortie-du-jeudi/2023-04-13/
LOCATION:Thömus Bike World Payerne\, ZI La Palaz C 7\, Payerne\, Vaud\, 1530
CATEGORIES:Cyclosportifs
END:VEVENT
BEGIN:VEVENT
DTSTART;TZID=Europe/Zurich:20230415T000000
DTEND;TZID=Europe/Zurich:20230415T000000
DTSTAMP:20260421T055240
CREATED:20230226T161031Z
LAST-MODIFIED:20230226T161031Z
UID:10000128-1681516800-1681516800@vcpayerne.ch
SUMMARY:Swiss Bike Cup - Schaan
DESCRIPTION:
URL:https://vcpayerne.ch/event/swiss-bike-cup-schaan-2/
LOCATION:Schaan (GR)\, Schaan\, Suisse
CATEGORIES:Course: VTT
END:VEVENT
BEGIN:VEVENT
DTSTART;VALUE=DATE:20230415
DTEND;VALUE=DATE:20230423
DTSTAMP:20260421T055240
CREATED:20230203T171801Z
LAST-MODIFIED:20230203T171915Z
UID:10000018-1681516800-1682207999@vcpayerne.ch
SUMMARY:Semaine de vélo de route à Giverola
DESCRIPTION:
URL:https://vcpayerne.ch/event/semaine-de-velo-de-route-a-giverola/
LOCATION:Giverola\, Giverola\, Espagne
CATEGORIES:Club
END:VEVENT
BEGIN:VEVENT
DTSTART;TZID=Europe/Zurich:20230415T090000
DTEND;TZID=Europe/Zurich:20230415T110000
DTSTAMP:20260421T055240
CREATED:20230303T182331Z
LAST-MODIFIED:20230303T182331Z
UID:10000145-1681549200-1681556400@vcpayerne.ch
SUMMARY:Sortie VTT interclubs
DESCRIPTION:
URL:https://vcpayerne.ch/event/sortie-vtt-interclubs-4/
LOCATION:Plaffeien (FR)\, Plaffeien\, Suisse
CATEGORIES:École de vélo,Interclubs
ORGANIZER;CN="Cycles TESAG":MAILTO:info@cycles-tesag.ch
END:VEVENT
BEGIN:VEVENT
DTSTART;TZID=Europe/Zurich:20230416T000000
DTEND;TZID=Europe/Zurich:20230416T000000
DTSTAMP:20260421T055240
CREATED:20230226T160654Z
LAST-MODIFIED:20230226T160654Z
UID:10000107-1681603200-1681603200@vcpayerne.ch
SUMMARY:Tour du Canton de Fribourg - 2e GP de Semsales
DESCRIPTION:
URL:https://vcpayerne.ch/event/tour-du-canton-de-fribourg-2e-gp-de-semsales-2/
LOCATION:Semsales (FR)\, Semsales\, Suisse
CATEGORIES:Course: Route
END:VEVENT
END:VCALENDAR