BEGIN:VCALENDAR
VERSION:2.0
PRODID:-//Vélo-Club Payerne - ECPv6.10.1.1//NONSGML v1.0//EN
CALSCALE:GREGORIAN
METHOD:PUBLISH
X-WR-CALNAME:Vélo-Club Payerne
X-ORIGINAL-URL:https://vcpayerne.ch
X-WR-CALDESC:Évènements pour Vélo-Club Payerne
REFRESH-INTERVAL;VALUE=DURATION:PT1H
X-Robots-Tag:noindex
X-PUBLISHED-TTL:PT1H
BEGIN:VTIMEZONE
TZID:Europe/Zurich
BEGIN:DAYLIGHT
TZOFFSETFROM:+0100
TZOFFSETTO:+0200
TZNAME:CEST
DTSTART:20230326T010000
END:DAYLIGHT
BEGIN:STANDARD
TZOFFSETFROM:+0200
TZOFFSETTO:+0100
TZNAME:CET
DTSTART:20231029T010000
END:STANDARD
END:VTIMEZONE
BEGIN:VEVENT
DTSTART;VALUE=DATE:20230415
DTEND;VALUE=DATE:20230423
DTSTAMP:20260421T055349
CREATED:20230203T171801Z
LAST-MODIFIED:20230203T171915Z
UID:10000018-1681516800-1682207999@vcpayerne.ch
SUMMARY:Semaine de vélo de route à Giverola
DESCRIPTION:
URL:https://vcpayerne.ch/event/semaine-de-velo-de-route-a-giverola/
LOCATION:Giverola\, Giverola\, Espagne
CATEGORIES:Club
END:VEVENT
BEGIN:VEVENT
DTSTART;TZID=Europe/Zurich:20230419T000000
DTEND;TZID=Europe/Zurich:20230419T000000
DTSTAMP:20260421T055349
CREATED:20230226T160520Z
LAST-MODIFIED:20230226T160520Z
UID:10000099-1681862400-1681862400@vcpayerne.ch
SUMMARY:Giron du Rhône - St-Triphon
DESCRIPTION:
URL:https://vcpayerne.ch/event/giron-du-rhone-st-triphon-2/
LOCATION:St-Triphon (VD)\, St-Triphon\, Suisse
CATEGORIES:Course: Route
END:VEVENT
BEGIN:VEVENT
DTSTART;TZID=Europe/Zurich:20230420T181500
DTEND;TZID=Europe/Zurich:20230420T200000
DTSTAMP:20260421T055349
CREATED:20230203T175940Z
LAST-MODIFIED:20230907T145935Z
UID:10000026-1682014500-1682020800@vcpayerne.ch
SUMMARY:Sortie du Jeudi
DESCRIPTION:RENDEZ-VOUS 18h15 AU MAGASIN ! Attention ces sorties peuvent parfois être délocalisées. \n \nPhotos \n\n\n\n	 \n	\n		Failed to get data. Error:\nQuota exceeded for quota metric 'All requests' and limit 'All requests per day' of service 'photoslibrary.googleapis.com' for consumer 'project_number:261560699688'.
URL:https://vcpayerne.ch/event/sortie-du-jeudi/2023-04-20/
LOCATION:Thömus Bike World Payerne\, ZI La Palaz C 7\, Payerne\, Vaud\, 1530
CATEGORIES:Cyclosportifs
END:VEVENT
BEGIN:VEVENT
DTSTART;TZID=Europe/Zurich:20230422T093000
DTEND;TZID=Europe/Zurich:20230422T113000
DTSTAMP:20260421T055350
CREATED:20230303T181652Z
LAST-MODIFIED:20230303T182501Z
UID:10000142-1682155800-1682163000@vcpayerne.ch
SUMMARY:Sortie VTT interclubs
DESCRIPTION:
URL:https://vcpayerne.ch/event/sortie-vtt-interclubs/
LOCATION:Cremin (VD)\, Cremin\, Vaud\, 1526\, Suisse
CATEGORIES:École de vélo,Interclubs
ORGANIZER;CN="V%C3%A9lo-Club Broye Lucens":MAILTO:contact@vcbroye.ch
END:VEVENT
BEGIN:VEVENT
DTSTART;TZID=Europe/Zurich:20230423T000000
DTEND;TZID=Europe/Zurich:20230423T000000
DTSTAMP:20260421T055350
CREATED:20230226T161101Z
LAST-MODIFIED:20230226T161101Z
UID:10000134-1682208000-1682208000@vcpayerne.ch
SUMMARY:West Bike Cup - Planeyse
DESCRIPTION:
URL:https://vcpayerne.ch/event/west-bike-cup-planeyse-2/
LOCATION:Milvignes (NE)\, Milvignes\, Suisse
CATEGORIES:Course: VTT
END:VEVENT
BEGIN:VEVENT
DTSTART;TZID=Europe/Zurich:20230423T090000
DTEND;TZID=Europe/Zurich:20230423T110000
DTSTAMP:20260421T055350
CREATED:20230303T182401Z
LAST-MODIFIED:20230303T182401Z
UID:10000146-1682240400-1682247600@vcpayerne.ch
SUMMARY:Sortie VTT interclubs
DESCRIPTION:
URL:https://vcpayerne.ch/event/sortie-vtt-interclubs-5/
LOCATION:Plaffeien (FR)\, Plaffeien\, Suisse
CATEGORIES:École de vélo,Interclubs
ORGANIZER;CN="Cycles TESAG":MAILTO:info@cycles-tesag.ch
END:VEVENT
END:VCALENDAR